BEGIN:VCALENDAR
VERSION:2.0
PRODID:-//ChamberMaster//Event Calendar 2.0//EN
METHOD:PUBLISH
X-PUBLISHED-TTL:P3D
REFRESH-INTERVAL:P3D
CALSCALE:GREGORIAN
BEGIN:VEVENT
DTSTART;VALUE=DATE:20150605
DTEND;VALUE=DATE:20150606
TRANSP:TRANSPARENT
X-MICROSOFT-CDO-ALLDAYEVENT:TRUE
SUMMARY:After School Archery Day
DESCRIPTION:Belmont SWCD is hosting an After School Archery Day on June 5 at Bark Camp State Park for children from 8 to 18 years old.\n\n\n\nBasic archery skills and safety will be taught by BAI certified instructors\, Liza Butler and Kathy Baugh. The instruction will be for one hour and space is limited.\n\n\n\nThis program is sponsored by the National Wild Turkey Federation\, Division of Wildlife and the Foundation for Appalachian Ohio. All of the protocols taught to the participants comply with the National Archery in the Schools Program (NASP).\n\n\n\nTo reserve your spot\, call Kathy at Belmont SWCD 740-526-0027
X-ALT-DESC;FMTTYPE=text/html:Belmont SWCD is hosting an After School Archery Day on June 5 at Bark Camp State Park for children from 8 to 18 years old.<br />\n<br />\nBasic archery skills and safety will be taught by BAI certified instructors\, Liza Butler and Kathy Baugh. The instruction will be for one hour and space is limited.<br />\n<br />\nThis program is sponsored by the National Wild Turkey Federation\, Division of Wildlife and the Foundation for Appalachian Ohio. All of the protocols taught to the participants comply with the National Archery in the Schools Program (NASP).<br />\n<br />\nTo reserve your spot\, call Kathy at Belmont SWCD 740-526-0027
LOCATION:Bark Camp State Park
UID:e.1848.542
SEQUENCE:3
DTSTAMP:20260425T172412Z
URL:http://www.stcchamber.com/events/details/after-school-archery-day-06-05-2015-542
END:VEVENT

END:VCALENDAR
