BEGIN:VCALENDAR
VERSION:2.0
PRODID:-//ChamberMaster//Event Calendar 2.0//EN
METHOD:PUBLISH
X-PUBLISHED-TTL:P3D
REFRESH-INTERVAL:P3D
CALSCALE:GREGORIAN
BEGIN:VEVENT
DTSTART:20250222T233000Z
DTEND:20250223T045500Z
X-MICROSOFT-CDO-ALLDAYEVENT:FALSE
SUMMARY:2025 Ohio Valley Heart Ball
DESCRIPTION:Lions and Tigers and Bears\, oh my! Come join the fun as we enter the Land of Oz at the 2025 Ohio Valley Heart Ball - "If I Only Had a Heart"! It will be a magical night\, filled with delicious food\, silent auction items\, and dancing to the sounds of Eli & the Mojo Kings! Plus\, you'll help save the hearts of men\, women\, and children in the Ohio Valley! Black tie optional (Ruby Slippers encouraged)! Follow the Yellow Brick Road and join us for the 2025 Ohio Valley Heart Ball - a night you won't soon forget! Head to www.heart.org/ovheartball and get your tickets TODAY!
X-ALT-DESC;FMTTYPE=text/html:Lions and Tigers and Bears\, oh my! Come join the fun as we enter the Land of Oz at the 2025 Ohio Valley Heart Ball - &quot\;If I Only Had a Heart&quot\;! It will be a magical night\, filled with delicious food\, silent auction items\, and dancing to the sounds of Eli &amp\; the Mojo Kings! Plus\, you&#39\;ll help save the hearts of men\, women\, and children in the Ohio Valley! Black tie optional (Ruby Slippers encouraged)! Follow the Yellow Brick Road and join us for the 2025 Ohio Valley Heart Ball - a night you won&#39\;t soon forget! Head to www.heart.org/ovheartball and get your tickets TODAY!
LOCATION:Belmont Hills Country Club
UID:e.1848.13584
SEQUENCE:3
DTSTAMP:20260423T195809Z
URL:https://www.stcchamber.com/events/details/2025-ohio-valley-heart-ball-13584
END:VEVENT

END:VCALENDAR
