BEGIN:VCALENDAR
VERSION:2.0
PRODID:-//ChamberMaster//Event Calendar 2.0//EN
METHOD:PUBLISH
X-PUBLISHED-TTL:P3D
REFRESH-INTERVAL:P3D
CALSCALE:GREGORIAN
BEGIN:VEVENT
DTSTART:20200102T170000Z
DTEND:20200102T180000Z
X-MICROSOFT-CDO-ALLDAYEVENT:FALSE
SUMMARY:Belmont County Safety Council January 2020 Luncheon
DESCRIPTION:The Belmont County Safety Council will hold a lunch meeting on Thursday\, January 2nd\, 2020 at the St. Clairsville Recreation Center from 12:00 p.m. - 1:00 p.m.  This meeting will serve as the 7th meeting for the 2020 program year.  The cost of lunch will be $15.00 and advanced reservations are required to ensure that we have adequate seating and food for all of our attendees and speakers.  Any Walk-Ins will be $20.00.\n\n\n\n\n\n*Please remember that your CEO must attend any one of the twelve meetings in the program year and must sign-in as the on the CEO line. \n\n\n\nSpeaker: Lieutenant Curtis Kyer\n\nKyer started his career in the Morristown Volunteer Fire Department in 1995 and has been full-time at Cumberland Trail for twenty-one years. He was promoted to Lieutenant in 2012. he is also a fire instructor and heads the Fire Prevention Program for the district every yea in October for Fire Prevention Week.\n\nCaterer: Undos\n\n	To make reservations\, call the Chamber Office at 740 695-9623 or e-mail administrator@stcchamber.com. If you have e-mailed your reservation and you do not receive a response\, please try again as a confirmation email signifies that we have received your reservation.  To help us give the caterers adequate information to plan\, please call\, fax or e-mail  your reservation to the Chamber office as soon as possible.  Even if you have prepaid for lunches for the year\, please make a reservation.
X-ALT-DESC;FMTTYPE=text/html:<span style="color: rgb(51\, 51\, 51)\; font-family: sans-serif\, Arial\, Verdana\, &quot\;Trebuchet MS&quot\;\; font-size: 14px\;"><span style="font-family: arial\;">The Belmont County Safety Council will hold a lunch meeting on&nbsp\;<strong>Thursday\, January 2nd\, 2020&nbsp\;</strong>at the St. Clairsville Recreation Center from 12:00 p.m.&nbsp\;- 1:00 p.m.&nbsp\; This meeting will serve as&nbsp\;<strong>the 7th meeting for the 2020 program year.&nbsp\;&nbsp\;</strong>The cost of lunch will be $15.00 and advanced reservations are required to ensure that we have adequate seating and food for all of our attendees and speakers.&nbsp\; Any Walk-Ins will be $20.00.</span></span><br style="color: rgb(51\, 51\, 51)\; font-family: sans-serif\, Arial\, Verdana\, &quot\;Trebuchet MS&quot\;\; font-size: 13px\;" />\n<br style="color: rgb(51\, 51\, 51)\; font-family: sans-serif\, Arial\, Verdana\, &quot\;Trebuchet MS&quot\;\; font-size: 13px\;" />\n<br style="color: rgb(51\, 51\, 51)\; font-family: sans-serif\, Arial\, Verdana\, &quot\;Trebuchet MS&quot\;\; font-size: 13px\;" />\n<span style="color: rgb(51\, 51\, 51)\; font-family: sans-serif\, Arial\, Verdana\, &quot\;Trebuchet MS&quot\;\; font-size: 14px\;"><span style="font-family: arial\;"><span style="color: rgb(178\, 34\, 34)\;"><u>*</u>Please remember that&nbsp\;<strong>your CEO must attend any one of the twelve</strong>&nbsp\;meetings in the program year and&nbsp\;<u><strong>must sign-in as the on the CEO line.</strong></u>&nbsp\;</span></span></span><br style="color: rgb(51\, 51\, 51)\; font-family: sans-serif\, Arial\, Verdana\, &quot\;Trebuchet MS&quot\;\; font-size: 13px\;" />\n<br style="color: rgb(51\, 51\, 51)\; font-family: sans-serif\, Arial\, Verdana\, &quot\;Trebuchet MS&quot\;\; font-size: 13px\;" />\n<span style="color: rgb(51\, 51\, 51)\; font-family: sans-serif\, Arial\, Verdana\, &quot\;Trebuchet MS&quot\;\; font-size: 13px\; background-color: rgb(255\, 255\, 255)\;"><strong>Speaker: Lieutenant Curtis Kyer</strong><br />\nKyer started his career in the Morristown Volunteer Fire Department in 1995 and has been full-time at Cumberland Trail for twenty-one years. He was promoted to Lieutenant in 2012. he is also a fire instructor and heads the Fire Prevention Program for the district every yea in October for Fire Prevention Week.<br />\n<span style="font-size: 14px\;"><strong>Caterer: Undos</strong></span></span>\n<ul style="padding: 0px 40px\; color: rgb(51\, 51\, 51)\; font-family: sans-serif\, Arial\, Verdana\, &quot\;Trebuchet MS&quot\;\; font-size: 13px\;">\n	<li><strong><span style="font-family: &quot\;times new roman&quot\;\, serif\;"><span style="font-size: 14px\;"><span style="font-family: arial\;">To make reservations\, call the Chamber Office at 740 695-9623 or e-mail&nbsp\;<a href="mailto:administrator@stcchamber.com" style="color: rgb(7\, 130\, 193)\;"><span style="color: rgb(0\, 0\, 255)\;">administrator@stcchamber.com</span></a>. If you have e-mailed your reservation and you do not receive a response\, please try again as a confirmation email signifies that we have received your reservation.&nbsp\; To help us give the caterers adequate information to plan\, please call\, fax or e-mail &nbsp\;your reservation to the Chamber office as soon as possible.&nbsp\;&nbsp\;<u><strong><em>Even if you have prepaid for lunches for the year\, please make a reservation.</em></strong></u></span></span></span></strong></li>\n</ul>\n
LOCATION:St. Clairsville Rec. Center 102 Fair St. St. Clairsville\, OH 43950
UID:e.1848.12571
SEQUENCE:3
DTSTAMP:20260425T235906Z
URL:https://www.stcchamber.com/events/details/belmont-county-safety-council-january-2020-luncheon-12571
END:VEVENT

END:VCALENDAR
