BEGIN:VCALENDAR
VERSION:2.0
PRODID:-//ChamberMaster//Event Calendar 2.0//EN
METHOD:PUBLISH
X-PUBLISHED-TTL:P3D
REFRESH-INTERVAL:P3D
CALSCALE:GREGORIAN
BEGIN:VEVENT
DTSTART:20191113T230000Z
DTEND:20191114T000000Z
X-MICROSOFT-CDO-ALLDAYEVENT:FALSE
SUMMARY:Blood Cancer Support Group
DESCRIPTION:Blood Cancer Support Group\n\nPatients\, family members\, friends\, caregivers and health professionals will receive updates on blood cancers. There will be an open discussion. The group provides support following a diagnosis of leukemia\, lymphoma\, Hodgkin's disease\, myeloma and MDS. For more information or to register\, call 412-395-2882 or 800-955-4572.
X-ALT-DESC;FMTTYPE=text/html:<strong>Blood Cancer Support Group</strong><br />\nPatients\, family members\, friends\,&nbsp\;caregivers and health professionals will receive updates on blood cancers.&nbsp\;There will be an open discussion. The group provides support following a diagnosis of leukemia\, lymphoma\, Hodgkin&#39\;s disease\, myeloma and MDS. <strong>For more information or to register\,&nbsp\;call 412-395-2882 or 800-955-4572.</strong>
LOCATION:Conference Room D at Wheeling Hospital
UID:e.1848.11557
SEQUENCE:3
DTSTAMP:20260426T031221Z
URL:https://www.stcchamber.com/events/details/blood-cancer-support-group-11557
END:VEVENT

END:VCALENDAR
