BEGIN:VCALENDAR
VERSION:2.0
PRODID:-//ChamberMaster//Event Calendar 2.0//EN
METHOD:PUBLISH
X-PUBLISHED-TTL:P3D
REFRESH-INTERVAL:P3D
CALSCALE:GREGORIAN
BEGIN:VEVENT
DTSTART:20191003T160000Z
DTEND:20191003T210000Z
X-MICROSOFT-CDO-ALLDAYEVENT:FALSE
SUMMARY:Blood Drive at Wheeling Hospital
DESCRIPTION:Central Blood Bank is now Vitalant. To make an appointment visit vitalant.org\, click on the donate button and search with the group code W382. You can also call 877-258-4825 or 304-243-3339.
X-ALT-DESC;FMTTYPE=text/html:<strong>Central Blood Bank is now Vitalant. To make an appointment visit vitalant.org\, click on the donate button and search with the group code W382. You can also call 877-258-4825 or 304-243-3339.</strong><br />\n<br />\n&nbsp\;
LOCATION:Auditorium at Wheeling Hospital
UID:e.1848.11536
SEQUENCE:3
DTSTAMP:20260426T043352Z
URL:https://www.stcchamber.com/events/details/blood-drive-at-wheeling-hospital-11536
END:VEVENT

END:VCALENDAR
