BEGIN:VCALENDAR
VERSION:2.0
PRODID:-//ChamberMaster//Event Calendar 2.0//EN
METHOD:PUBLISH
X-PUBLISHED-TTL:P3D
REFRESH-INTERVAL:P3D
CALSCALE:GREGORIAN
BEGIN:VEVENT
DTSTART:20191007T163000Z
DTEND:20191007T183000Z
X-MICROSOFT-CDO-ALLDAYEVENT:FALSE
SUMMARY:Blood Pressure Screening at Howard Long Wellness Center
DESCRIPTION:Blood Pressure Screening\nFree blood pressure screenings at the Howard Long Wellness Center on Oct. 7\, 14\, 21 and 28\, from 12:30-2:30 p.m. No appointment is necessary.
X-ALT-DESC;FMTTYPE=text/html:<h2 style="font-style:italic">Blood Pressure Screening</h2>\n<span style="font-size:14px">Free blood pressure screenings at the Howard Long Wellness Center&nbsp\;on Oct. 7\, 14\, 21 and 28\, from 12:30-2:30 p.m. No appointment is necessary.</span>
LOCATION:Howard Long Wellness Center\, A Division of Wheeling Hospital
UID:e.1848.11537
SEQUENCE:3
DTSTAMP:20260426T043521Z
URL:https://www.stcchamber.com/events/details/blood-pressure-screening-at-howard-long-wellness-center-10-07-2019-11537
END:VEVENT

END:VCALENDAR
