BEGIN:VCALENDAR
VERSION:2.0
PRODID:-//ChamberMaster//Event Calendar 2.0//EN
METHOD:PUBLISH
X-PUBLISHED-TTL:P3D
REFRESH-INTERVAL:P3D
CALSCALE:GREGORIAN
BEGIN:VEVENT
DTSTART:20191111T173000Z
DTEND:20191111T193000Z
X-MICROSOFT-CDO-ALLDAYEVENT:FALSE
SUMMARY:Blood Pressure Screening at Howard Long Wellness Center
DESCRIPTION:Blood Pressure Screening\nFree blood pressure screenings at the Howard Long Wellness Center on Nov. 4\, 11\, 18 and 25\, from 12:30-2:30 p.m. No appointment is necessary.
X-ALT-DESC;FMTTYPE=text/html:<h2 style="font-style:italic">Blood Pressure Screening</h2>\n<span style="font-size:14px">Free blood pressure screenings at the Howard Long Wellness Center&nbsp\;on Nov. 4\, 11\, 18 and 25\, from 12:30-2:30 p.m. No appointment is necessary.</span>
LOCATION:Howard Long Wellness Center\, A Division of Wheeling Hospital
UID:e.1848.11550
SEQUENCE:3
DTSTAMP:20260426T031409Z
URL:https://www.stcchamber.com/events/details/blood-pressure-screening-at-howard-long-wellness-center-11-11-2019-11550
END:VEVENT

END:VCALENDAR
