BEGIN:VCALENDAR
VERSION:2.0
PRODID:-//ChamberMaster//Event Calendar 2.0//EN
METHOD:PUBLISH
X-PUBLISHED-TTL:P3D
REFRESH-INTERVAL:P3D
CALSCALE:GREGORIAN
BEGIN:VEVENT
DTSTART:20191104T230000Z
DTEND:20191105T010000Z
X-MICROSOFT-CDO-ALLDAYEVENT:FALSE
SUMMARY:Breastfeeding Classes for Expectant Parents at Wheeling Hospital
DESCRIPTION:Classes are taught by an International Board-Certified Lactation Consultant. How to Get Started\, Positioning and Latch-on\, Managing Common Situations\, Maternal Nutrition\, Milk Supply\, What to Expect in Early Weeks\, How to Know Your Baby is Getting Enough. For more information and to register\, call 304-243-7101.
X-ALT-DESC;FMTTYPE=text/html:Classes are taught by an International Board-Certified Lactation Consultant. How to Get Started\, Positioning and Latch-on\, Managing Common Situations\, Maternal Nutrition\, Milk Supply\, What to Expect in Early Weeks\, How to Know Your Baby is Getting Enough. <strong>For more information and to register\, call 304-243-7101.</strong>
LOCATION:Conference Room D at Wheeling Hospital
UID:e.1848.11553
SEQUENCE:3
DTSTAMP:20260426T043014Z
URL:https://www.stcchamber.com/events/details/breastfeeding-classes-for-expectant-parents-at-wheeling-hospital-11553
END:VEVENT

END:VCALENDAR
