BEGIN:VCALENDAR
VERSION:2.0
PRODID:-//ChamberMaster//Event Calendar 2.0//EN
METHOD:PUBLISH
X-PUBLISHED-TTL:P3D
REFRESH-INTERVAL:P3D
CALSCALE:GREGORIAN
BEGIN:VEVENT
DTSTART:20200229T130000Z
DTEND:20200229T210000Z
X-MICROSOFT-CDO-ALLDAYEVENT:FALSE
SUMMARY:BYN 1 Year Anniversary Celebration/Customer Appreciation Day
DESCRIPTION:Come celebrate Better You Nutrition's one year anniversary in St. Clairsville with a Customer Appreciation Day!
X-ALT-DESC;FMTTYPE=text/html:Come celebrate Better You Nutrition&#39\;s one year anniversary in St. Clairsville with a Customer Appreciation Day!
LOCATION:107 Plaza Drive\, Suite P Next to WenWu's
UID:e.1848.12999
SEQUENCE:3
DTSTAMP:20260425T235357Z
URL:https://www.stcchamber.com/events/details/byn-1-year-anniversary-celebration-customer-appreciation-day-12999
END:VEVENT

END:VCALENDAR
