BEGIN:VCALENDAR
VERSION:2.0
PRODID:-//ChamberMaster//Event Calendar 2.0//EN
METHOD:PUBLISH
X-PUBLISHED-TTL:P3D
REFRESH-INTERVAL:P3D
CALSCALE:GREGORIAN
BEGIN:VEVENT
DTSTART:20191007T150000Z
DTEND:20191007T170000Z
X-MICROSOFT-CDO-ALLDAYEVENT:FALSE
SUMMARY:Cholesterol Screening
DESCRIPTION:Total cholesterol screenings offered at the Howard Long Wellness Center on Oct. 7\, from 11 a.m.-1 p.m. and 5-7 p.m.. The fee is $5.
X-ALT-DESC;FMTTYPE=text/html:Total cholesterol screenings offered at the Howard Long Wellness Center on Oct. 7\, from 11 a.m.-1 p.m. and 5-7 p.m.. The fee is $5.
LOCATION:Howard Long Wellness Center\, A Division of Wheeling Hospital
UID:e.1848.11542
SEQUENCE:3
DTSTAMP:20260426T042846Z
URL:https://www.stcchamber.com/events/details/cholesterol-screening-10-07-2019-11542
END:VEVENT

END:VCALENDAR
