BEGIN:VCALENDAR
VERSION:2.0
PRODID:-//ChamberMaster//Event Calendar 2.0//EN
METHOD:PUBLISH
X-PUBLISHED-TTL:P3D
REFRESH-INTERVAL:P3D
CALSCALE:GREGORIAN
BEGIN:VEVENT
DTSTART:20191025T150000Z
DTEND:20191025T153000Z
X-MICROSOFT-CDO-ALLDAYEVENT:FALSE
SUMMARY:Family and Friends CPR Anytime
DESCRIPTION:Family and Friends CPR Anytime\n\n\n\nDid you know that almost 80 percent of cardiac arrests occur at home and are witnessed by a family member? Fast\, efficient CPR can double or triple a victim's chance of survival. The 22-minute Family and Friends CPR Anytime program teaches CPR skills that could save a loved one's life. This free program is for people who do not need a course completion card to satisfy a work requirement. This is NOT a certification course. For more information and to register\, call 304-243-3932.
X-ALT-DESC;FMTTYPE=text/html:<strong>Family and Friends CPR Anytime</strong><br />\n<br />\nDid you know that almost 80 percent of cardiac arrests occur at home and are witnessed by a family member? Fast\, efficient CPR can double or triple a victim&#39\;s chance of survival. The 22-minute Family and Friends CPR Anytime program teaches CPR skills that could save a loved one&#39\;s life. <strong>This free program is for people who do not need a course completion card to satisfy a work requirement.</strong> <u>This is <strong>NOT</strong> a certification course.</u> For more information and to register\, call 304-243-3932.<br />\n&nbsp\;
LOCATION:Howard Long Wellness Center\, A Division of Wheeling Hospital
UID:e.1848.11545
SEQUENCE:3
DTSTAMP:20260426T043504Z
URL:https://www.stcchamber.com/events/details/family-and-friends-cpr-anytime-10-25-2019-11545
END:VEVENT

END:VCALENDAR
