BEGIN:VCALENDAR
VERSION:2.0
PRODID:-//ChamberMaster//Event Calendar 2.0//EN
METHOD:PUBLISH
X-PUBLISHED-TTL:P3D
REFRESH-INTERVAL:P3D
CALSCALE:GREGORIAN
BEGIN:VEVENT
DTSTART:20200212T170000Z
DTEND:20200212T180000Z
X-MICROSOFT-CDO-ALLDAYEVENT:FALSE
SUMMARY:February Chamber Luncheon sponsored by D.S. Benefits Group
DESCRIPTION:Join the St.Clairsville Area Chamber of Commerce at our February Luncheon. Matthew Baker\, Senior Benefits Consultant of DS Benefits Group will be talking about the following:\n\n	Where we've been - We will discuss what makes up a premium rate\, what is trend and what employers can control. \n\n         Where we are today - We will take a look at historical costs to today and why there may be a likely rise in premiums to meet trend. \n\n         Where we are going - Taking a deeper dive into where we are going with healthcare through consolidation\, technology\, innovation.\n\n         Alternative Funding options for Companies of all sizes
X-ALT-DESC;FMTTYPE=text/html:Join the St.Clairsville Area Chamber of Commerce at our February Luncheon. Matthew Baker\, Senior Benefits Consultant of DS Benefits Group will be talking about the following:\n<ul>\n	<li><span style="color:#111111\;"><span style="font-family:arial\,sans-serif\;"><span style="font-size:10.0pt\;">Where we&rsquo\;ve been - We will discuss what makes up a premium rate\, what is trend and what employers can control.&nbsp\;</span></span></span></li>\n</ul>\n<span style="color:#111111\;"><span style="font-family:symbol\;"><span style="font-size:10.0pt\;">&middot\;</span></span></span>&nbsp\;&nbsp\;&nbsp\;&nbsp\;&nbsp\;&nbsp\;&nbsp\; <span style="color:#111111\;"><span style="font-family:arial\,sans-serif\;"><span style="font-size:10.0pt\;">Where we are today - We will take a look at historical costs to today and why there may be a likely rise in premiums to meet trend.&nbsp\;</span></span></span><br />\n<span style="color:#111111\;"><span style="font-family:symbol\;"><span style="font-size:10.0pt\;">&middot\;</span></span></span>&nbsp\;&nbsp\;&nbsp\;&nbsp\;&nbsp\;&nbsp\;&nbsp\; <span style="color:#111111\;"><span style="font-family:arial\,sans-serif\;"><span style="font-size:10.0pt\;">Where we are going - Taking a deeper dive into where we are going with healthcare through consolidation\, technology\, innovation.</span></span></span><br />\n<span style="color:#111111\;"><span style="font-family:symbol\;"><span style="font-size:10.0pt\;">&middot\;</span></span></span>&nbsp\;&nbsp\;&nbsp\;&nbsp\;&nbsp\;&nbsp\;&nbsp\; <span style="color:#111111\;"><span style="font-family:arial\,sans-serif\;"><span style="font-size:10.0pt\;">Alternative Funding options for Companies of all sizes</span></span></span>
LOCATION:Belmont Hills Country Club 47080 National Road West St.Clairsville\, Oh 43950
UID:e.1848.12992
SEQUENCE:3
DTSTAMP:20260425T222403Z
URL:https://www.stcchamber.com/events/details/february-chamber-luncheon-sponsored-by-d-s-benefits-group-12992
END:VEVENT

END:VCALENDAR
