BEGIN:VCALENDAR
VERSION:2.0
PRODID:-//ChamberMaster//Event Calendar 2.0//EN
METHOD:PUBLISH
X-PUBLISHED-TTL:P3D
REFRESH-INTERVAL:P3D
CALSCALE:GREGORIAN
BEGIN:VEVENT
DTSTART:20191017T213000Z
DTEND:20191017T233000Z
X-MICROSOFT-CDO-ALLDAYEVENT:FALSE
SUMMARY:Meet the Candidate
DESCRIPTION:This event will consist of the St. Clairsville Mayor and the Council At Large candidates for the November 2019 election. The candidates will have 2-3 questions to respond and comment on. This event is open to the public. Come out to listen to our city's candidates.
X-ALT-DESC;FMTTYPE=text/html:This event will consist of the St. Clairsville Mayor and the Council At Large candidates for the November 2019 election. The candidates will have 2-3 questions to respond and comment on. This event is open to the public. Come out to listen to our city&#39\;s candidates.&nbsp\;<br />\n&nbsp\;
LOCATION:Shannon Hall at Ohio University Eastern
UID:e.1848.11526
SEQUENCE:3
DTSTAMP:20260426T042839Z
URL:https://www.stcchamber.com/events/details/meet-the-candidate-11526
END:VEVENT

END:VCALENDAR
