BEGIN:VCALENDAR
VERSION:2.0
PRODID:-//ChamberMaster//Event Calendar 2.0//EN
METHOD:PUBLISH
X-PUBLISHED-TTL:P3D
REFRESH-INTERVAL:P3D
CALSCALE:GREGORIAN
BEGIN:VEVENT
DTSTART:20200115T160000Z
DTEND:20200115T160000Z
X-MICROSOFT-CDO-ALLDAYEVENT:FALSE
SUMMARY:Sakura Family Restaurant Ribbon Cutting
DESCRIPTION:The St. Clairsville Area Chamber of Commerce will be holding a Ribbon Cutting on the 15th at 11am. We would like to welcome the Sakura Family Restaurant to the area!
X-ALT-DESC;FMTTYPE=text/html:The St. Clairsville Area Chamber of Commerce will be holding a Ribbon Cutting on the 15th at 11am. We would like to welcome the Sakura Family Restaurant to the area!
LOCATION:3293 Belmont Street\, Bellaire\, OH 43906
UID:e.1848.12974
SEQUENCE:3
DTSTAMP:20260425T235423Z
URL:https://www.stcchamber.com/events/details/sakura-family-restaurant-ribbon-cutting-12974
END:VEVENT

END:VCALENDAR
