BEGIN:VCALENDAR
VERSION:2.0
PRODID:-//ChamberMaster//Event Calendar 2.0//EN
METHOD:PUBLISH
X-PUBLISHED-TTL:P3D
REFRESH-INTERVAL:P3D
CALSCALE:GREGORIAN
BEGIN:VEVENT
DTSTART:20200506T120000Z
DTEND:20200506T133000Z
X-MICROSOFT-CDO-ALLDAYEVENT:FALSE
SUMMARY:Speak~Out Coffee & Connections
DESCRIPTION:Speak~Out Coffee & Connection
X-ALT-DESC;FMTTYPE=text/html:Speak~Out Coffee &amp\; Connection
LOCATION:Wendy Anderson is inviting you to a scheduled Zoom meeting. Topic: Speak~Out Coffee & Connection Time: May 6\, 2020 08:00 AM Eastern Time (US and Canada) Join Zoom Meeting https://us02web.zoom.us/j/85997045357?pwd=RUtOTlJRNGt2cnBYd2JaeitzL2FzZz09 Meeting ID: 859 9704 5357 Password: 833496 One tap mobile +13126266799\,\,85997045357#\,\,1#\,833496# US (Chicago) +19294362866\,\,85997045357#\,\,1#\,833496# US (New York) Dial by your location +1 312 626 6799 US (Chicago) +1 929 436 2866 US (New York) +1 301 715 8592 US (Germantown) +1 346 248 7799 US (Houston) +1 669 900 6833 US (San Jose) +1 253 215 8782 US (Tacoma) Meeting ID: 859 9704 5357 Password: 833496 Find your local number: https://us02web.zoom.us/u/km2vtXO57
UID:e.1848.13003
SEQUENCE:3
DTSTAMP:20260425T174410Z
URL:https://www.stcchamber.com/events/details/speak-out-coffee-connections-13003
END:VEVENT

END:VCALENDAR
