BEGIN:VCALENDAR
VERSION:2.0
PRODID:-//ChamberMaster//Event Calendar 2.0//EN
METHOD:PUBLISH
X-PUBLISHED-TTL:P3D
REFRESH-INTERVAL:P3D
CALSCALE:GREGORIAN
BEGIN:VEVENT
DTSTART:20191204T170000Z
DTEND:20191204T180000Z
X-MICROSOFT-CDO-ALLDAYEVENT:FALSE
SUMMARY:St. Clairsville Area Chamber Lunch Sponsored by Harvey Goodman
DESCRIPTION:Join the St. Clairsville Area Chamber of Commerce for a Christmas Lunch Sponsored by Harvey Goodman \n\nTickets will be on sale for the "Tour of Homes"
X-ALT-DESC;FMTTYPE=text/html:<span style="font-size:14px\;">Join the St. Clairsville Area Chamber of Commerce for a Christmas Lunch Sponsored by <strong>Harvey Goodman&nbsp\;</strong></span><br />\nTickets will be on sale for the &quot\;Tour of Homes&quot\;
LOCATION:Belmont Hills Country Club
UID:e.1848.12568
SEQUENCE:3
DTSTAMP:20260426T013817Z
URL:https://www.stcchamber.com/events/details/st-clairsville-area-chamber-lunch-sponsored-by-harvey-goodman-12568
END:VEVENT

END:VCALENDAR
