BEGIN:VCALENDAR
VERSION:2.0
PRODID:-//ChamberMaster//Event Calendar 2.0//EN
METHOD:PUBLISH
X-PUBLISHED-TTL:P3D
REFRESH-INTERVAL:P3D
CALSCALE:GREGORIAN
BEGIN:VEVENT
DTSTART:20200520T120000Z
DTEND:20200520T133000Z
X-MICROSOFT-CDO-ALLDAYEVENT:FALSE
SUMMARY:St. Clairsville Area Chamber of Commerce Coffee & Connections
DESCRIPTION:How are you preparing to bring back your \n\nBusiness and Workforce?\nSpecial Guest: Belmont County Deputy Health Commissioner - Robert Sproul\n\nInformation and Tips "Returning to Work? What Do You Need to Know"
X-ALT-DESC;FMTTYPE=text/html:<h1 class="ArticleHeader-headline" style="box-sizing: border-box\; margin-right: 0px\; font-size: 54px\; line-height: 1.037\; margin-top: 0px\; margin-bottom: 15px\; width: 960px\; font-family: &quot\;Proxima Nova&quot\;\, Helvetica\, Arial\, sans-serif\; background-color: rgb(255\, 255\, 255)\;"><span style="font-size:16px\;">How are you preparing to bring back your&nbsp\;</span><br />\n<span style="font-size:16px\;">Business and Workforce?</span></h1>\n<span style="font-size:16px\;">Special Guest: Belmont County Deputy Health Commissioner - Robert Sproul<br />\nInformation and Tips &quot\;Returning to Work? What Do You Need to Know&quot\;</span><br />\n&nbsp\;
LOCATION:Wendy Anderson is inviting you to a scheduled Zoom meeting. Topic: St. Clairsville Area Chamber of Commerce Coffee ~ Connections Time: May 20\, 2020 08:00 AM Eastern Time (US and Canada) Join Zoom Meeting https://us02web.zoom.us/j/81320445525?pwd=VDlzSkpqWXJWay9OVU80WW9XYkE3QT09 Meeting ID: 813 2044 5525 Password: 744466 One tap mobile +13017158592\,\,81320445525#\,\,1#\,744466# US (Germantown) +13126266799\,\,81320445525#\,\,1#\,744466# US (Chicago) Dial by your location +1 301 715 8592 US (Germantown) +1 312 626 6799 US (Chicago) +1 929 436 2866 US (New York) +1 253 215 8782 US (Tacoma) +1 346 248 7799 US (Houston) +1 669 900 6833 US (San Jose) Meeting ID: 813 2044 5525 Password: 744466 Find your local number: https://us02web.zoom.us/u/kWoRoTo65
UID:e.1848.13004
SEQUENCE:3
DTSTAMP:20260425T172917Z
URL:https://www.stcchamber.com/events/details/st-clairsville-area-chamber-of-commerce-coffee-connections-13004
END:VEVENT

END:VCALENDAR
