BEGIN:VCALENDAR
VERSION:2.0
PRODID:-//ChamberMaster//Event Calendar 2.0//EN
METHOD:PUBLISH
X-PUBLISHED-TTL:P3D
REFRESH-INTERVAL:P3D
CALSCALE:GREGORIAN
BEGIN:VEVENT
DTSTART:20200122T170000Z
DTEND:20200122T180000Z
X-MICROSOFT-CDO-ALLDAYEVENT:FALSE
SUMMARY:St. Clairsville Area Chamber of Commerce Monthly Luncheon sponsored by the Belmont County Safety Council
DESCRIPTION:The January Chamber Luncheon is sponsored by the Belmont County Safety Council. Speaking about how you can save money on your BWC premiums by being part of the Chamber will be Careworks
X-ALT-DESC;FMTTYPE=text/html:<span style="color: rgb(51\, 51\, 51)\; font-family: sans-serif\, Arial\, Verdana\, &quot\;Trebuchet MS&quot\;\; font-size: 13px\; background-color: rgb(255\, 255\, 255)\;">The January Chamber Luncheon is sponsored by the Belmont County Safety Council. Speaking about how you can save money on your BWC premiums by being part of the Chamber will be Careworks</span>
LOCATION:Belmont Hills Country Club 47080 National Road West St. Clairsville\, Oh 43950
UID:e.1848.12973
SEQUENCE:3
DTSTAMP:20260426T000333Z
URL:https://www.stcchamber.com/events/details/st-clairsville-area-chamber-of-commerce-monthly-luncheon-sponsored-by-the-belmont-county-safety-council-12973
END:VEVENT

END:VCALENDAR
