BEGIN:VCALENDAR
VERSION:2.0
PRODID:-//ChamberMaster//Event Calendar 2.0//EN
METHOD:PUBLISH
X-PUBLISHED-TTL:P3D
REFRESH-INTERVAL:P3D
CALSCALE:GREGORIAN
BEGIN:VEVENT
DTSTART:20200420T163000Z
DTEND:20200420T220000Z
X-MICROSOFT-CDO-ALLDAYEVENT:FALSE
SUMMARY:The American Red Cross Blood Drive @ Residence Inn in St. Clairsville
DESCRIPTION:
X-ALT-DESC;FMTTYPE=text/html:
LOCATION:Residence Inn 50694 Ohio Valley Plaza St. Clairsville\, OH 43950
UID:e.1848.4289
SEQUENCE:3
DTSTAMP:20260426T000201Z
URL:https://www.stcchamber.com/events/details/the-american-red-cross-blood-drive-residence-inn-in-st-clairsville-04-20-2020-4289
END:VEVENT

END:VCALENDAR
