BEGIN:VCALENDAR
VERSION:2.0
PRODID:-//ChamberMaster//Event Calendar 2.0//EN
METHOD:PUBLISH
X-PUBLISHED-TTL:P3D
REFRESH-INTERVAL:P3D
CALSCALE:GREGORIAN
BEGIN:VEVENT
DTSTART:20200416T160000Z
DTEND:20200416T170000Z
X-MICROSOFT-CDO-ALLDAYEVENT:FALSE
SUMMARY:The Business Owners Guide to Surviving (and Thriving) During COVID-19
DESCRIPTION:Join us on Thursday\, April 16\, at noon as we discuss How to Navigate the New COVID-19 Stimulus Packages\n\n \n\nRegister online today! https://jarvisform.infusionsoft.com/app/form/web-form-submitted17\n\n \n\nThis session will cover the following information:\n\n              It all seems like alphabet soup! What is the difference between the Economic Injury Disaster Loan (EIDL) and the Paycheck Protection Program (PPP)? \n\n              Is this really FREE money or am I going to have to pay this back? What you need to know about repayment forgiveness and the PPP.\n\n              How do I know which programs to apply for and when? Is the PPP enrollment period open or not? Why doesn't anything seem to be happening?\n\n              Do the programs work together? Yes\, but there are some pitfalls that you'll need to watch out for to avoid setting yourself up for big problems later. EIDL or PPP? vs EIDL + PPP? \n\n              Do you need to worry about the money running out before you've been approved?\n\n              Will you get the full $10\,000 Emergency Grant or will you receive less? New information released on 4/6/20\, means many companies may not qualify for the full $10\,000 if they have fewer than 10 full-time employees.\n\n \n\nAttendees can receive a FREE GUIDE:  The Business Owners Guide to Surviving (and Thriving) During COVID-19\n\n              FREE GUIDE to help business owners learn about the new laws with pointers on navigating the challenges that are bound to occur. It outlines\, in one convenient place\, the new laws you need to understand now to secure the cash you need to keep your business open.
X-ALT-DESC;FMTTYPE=text/html:Join us on Thursday\, April 16\, at noon as we discuss How to Navigate the New COVID-19 Stimulus Packages<br />\n&nbsp\;<br />\nRegister online today! <a href="https://jarvisform.infusionsoft.com/app/form/web-form-submitted17">https://jarvisform.infusionsoft.com/app/form/web-form-submitted17</a><br />\n&nbsp\;<br />\nThis session will cover the following information:<br />\n&nbsp\;&nbsp\;&nbsp\;&nbsp\;&nbsp\;&nbsp\;&nbsp\;&nbsp\;&nbsp\;&nbsp\;&nbsp\;&nbsp\;&nbsp\; It all seems like alphabet soup!&nbsp\;What is the difference between the Economic Injury Disaster Loan (EIDL) and the Paycheck Protection Program (PPP)?&nbsp\;<br />\n&nbsp\;&nbsp\;&nbsp\;&nbsp\;&nbsp\;&nbsp\;&nbsp\;&nbsp\;&nbsp\;&nbsp\;&nbsp\;&nbsp\;&nbsp\; Is this really FREE money or am I going to have to pay this back?&nbsp\;What you need to know about repayment forgiveness and the PPP.<br />\n&nbsp\;&nbsp\;&nbsp\;&nbsp\;&nbsp\;&nbsp\;&nbsp\;&nbsp\;&nbsp\;&nbsp\;&nbsp\;&nbsp\;&nbsp\; How do I know which programs to apply for and when?&nbsp\;Is the PPP enrollment period open or not?&nbsp\;Why doesn&rsquo\;t anything seem to be happening?<br />\n&nbsp\;&nbsp\;&nbsp\;&nbsp\;&nbsp\;&nbsp\;&nbsp\;&nbsp\;&nbsp\;&nbsp\;&nbsp\;&nbsp\;&nbsp\; Do the programs work together? Yes\, but there are some pitfalls that you&rsquo\;ll need to watch out for to avoid setting yourself up for big problems later.&nbsp\;EIDL or PPP? vs EIDL + PPP?&nbsp\;<br />\n&nbsp\;&nbsp\;&nbsp\;&nbsp\;&nbsp\;&nbsp\;&nbsp\;&nbsp\;&nbsp\;&nbsp\;&nbsp\;&nbsp\;&nbsp\; Do you need to worry about the money running out before you&rsquo\;ve been approved?<br />\n&nbsp\;&nbsp\;&nbsp\;&nbsp\;&nbsp\;&nbsp\;&nbsp\;&nbsp\;&nbsp\;&nbsp\;&nbsp\;&nbsp\;&nbsp\; Will you get the full $10\,000 Emergency Grant or will you receive less? New information released on 4/6/20\, means many companies may not qualify for the full $10\,000 if they have fewer than 10 full-time employees.<br />\n&nbsp\;<br />\nAttendees can receive a FREE GUIDE:&nbsp\; The Business Owners Guide to Surviving (and Thriving) During COVID-19<br />\n&nbsp\;&nbsp\;&nbsp\;&nbsp\;&nbsp\;&nbsp\;&nbsp\;&nbsp\;&nbsp\;&nbsp\;&nbsp\;&nbsp\;&nbsp\; FREE GUIDE to help business owners learn about the new laws with pointers on navigating the challenges that are bound to occur. It outlines\, in one convenient place\, the new laws you need to understand now to secure the cash you need to keep your business open.&nbsp\;<br />\n&nbsp\;<br />\n&nbsp\;
LOCATION:Register online today! https://jarvisform.infusionsoft.com/app/form/web-form-submitted17
UID:e.1848.13001
SEQUENCE:3
DTSTAMP:20260425T192847Z
URL:https://www.stcchamber.com/events/details/the-business-owners-guide-to-surviving-and-thriving-during-covid-19-13001
END:VEVENT

END:VCALENDAR
